BEGIN:VCALENDAR
VERSION:2.0
PRODID:-//Cheo Go Kwan - ECPv6.15.20//NONSGML v1.0//EN
CALSCALE:GREGORIAN
METHOD:PUBLISH
X-WR-CALNAME:Cheo Go Kwan
X-ORIGINAL-URL:https://www.cheogokwan.nl
X-WR-CALDESC:Evenementen voor Cheo Go Kwan
REFRESH-INTERVAL;VALUE=DURATION:PT1H
X-Robots-Tag:noindex
X-PUBLISHED-TTL:PT1H
BEGIN:VTIMEZONE
TZID:Europe/Paris
BEGIN:DAYLIGHT
TZOFFSETFROM:+0100
TZOFFSETTO:+0200
TZNAME:CEST
DTSTART:20160327T010000
END:DAYLIGHT
BEGIN:STANDARD
TZOFFSETFROM:+0200
TZOFFSETTO:+0100
TZNAME:CET
DTSTART:20161030T010000
END:STANDARD
BEGIN:DAYLIGHT
TZOFFSETFROM:+0100
TZOFFSETTO:+0200
TZNAME:CEST
DTSTART:20170326T010000
END:DAYLIGHT
BEGIN:STANDARD
TZOFFSETFROM:+0200
TZOFFSETTO:+0100
TZNAME:CET
DTSTART:20171029T010000
END:STANDARD
BEGIN:DAYLIGHT
TZOFFSETFROM:+0100
TZOFFSETTO:+0200
TZNAME:CEST
DTSTART:20180325T010000
END:DAYLIGHT
BEGIN:STANDARD
TZOFFSETFROM:+0200
TZOFFSETTO:+0100
TZNAME:CET
DTSTART:20181028T010000
END:STANDARD
BEGIN:DAYLIGHT
TZOFFSETFROM:+0100
TZOFFSETTO:+0200
TZNAME:CEST
DTSTART:20190331T010000
END:DAYLIGHT
BEGIN:STANDARD
TZOFFSETFROM:+0200
TZOFFSETTO:+0100
TZNAME:CET
DTSTART:20191027T010000
END:STANDARD
BEGIN:DAYLIGHT
TZOFFSETFROM:+0100
TZOFFSETTO:+0200
TZNAME:CEST
DTSTART:20200329T010000
END:DAYLIGHT
BEGIN:STANDARD
TZOFFSETFROM:+0200
TZOFFSETTO:+0100
TZNAME:CET
DTSTART:20201025T010000
END:STANDARD
BEGIN:DAYLIGHT
TZOFFSETFROM:+0100
TZOFFSETTO:+0200
TZNAME:CEST
DTSTART:20210328T010000
END:DAYLIGHT
BEGIN:STANDARD
TZOFFSETFROM:+0200
TZOFFSETTO:+0100
TZNAME:CET
DTSTART:20211031T010000
END:STANDARD
BEGIN:DAYLIGHT
TZOFFSETFROM:+0100
TZOFFSETTO:+0200
TZNAME:CEST
DTSTART:20220327T010000
END:DAYLIGHT
BEGIN:STANDARD
TZOFFSETFROM:+0200
TZOFFSETTO:+0100
TZNAME:CET
DTSTART:20221030T010000
END:STANDARD
BEGIN:DAYLIGHT
TZOFFSETFROM:+0100
TZOFFSETTO:+0200
TZNAME:CEST
DTSTART:20230326T010000
END:DAYLIGHT
BEGIN:STANDARD
TZOFFSETFROM:+0200
TZOFFSETTO:+0100
TZNAME:CET
DTSTART:20231029T010000
END:STANDARD
BEGIN:DAYLIGHT
TZOFFSETFROM:+0100
TZOFFSETTO:+0200
TZNAME:CEST
DTSTART:20240331T010000
END:DAYLIGHT
BEGIN:STANDARD
TZOFFSETFROM:+0200
TZOFFSETTO:+0100
TZNAME:CET
DTSTART:20241027T010000
END:STANDARD
BEGIN:DAYLIGHT
TZOFFSETFROM:+0100
TZOFFSETTO:+0200
TZNAME:CEST
DTSTART:20250330T010000
END:DAYLIGHT
BEGIN:STANDARD
TZOFFSETFROM:+0200
TZOFFSETTO:+0100
TZNAME:CET
DTSTART:20251026T010000
END:STANDARD
BEGIN:DAYLIGHT
TZOFFSETFROM:+0100
TZOFFSETTO:+0200
TZNAME:CEST
DTSTART:20260329T010000
END:DAYLIGHT
BEGIN:STANDARD
TZOFFSETFROM:+0200
TZOFFSETTO:+0100
TZNAME:CET
DTSTART:20261025T010000
END:STANDARD
BEGIN:DAYLIGHT
TZOFFSETFROM:+0100
TZOFFSETTO:+0200
TZNAME:CEST
DTSTART:20270328T010000
END:DAYLIGHT
BEGIN:STANDARD
TZOFFSETFROM:+0200
TZOFFSETTO:+0100
TZNAME:CET
DTSTART:20271031T010000
END:STANDARD
END:VTIMEZONE
BEGIN:VEVENT
DTSTART;TZID=Europe/Paris:20260208T100000
DTEND;TZID=Europe/Paris:20260208T113000
DTSTAMP:20260423T100946
CREATED:20251229T095011Z
LAST-MODIFIED:20251229T095011Z
UID:27417-1770544800-1770550200@www.cheogokwan.nl
SUMMARY:Wedstrijdtraining
DESCRIPTION:Op uitnodiging
URL:https://www.cheogokwan.nl/evenement/wedstrijdtraining-8/
CATEGORIES:Trainingen
END:VEVENT
BEGIN:VEVENT
DTSTART;TZID=Europe/Paris:20260206T183000
DTEND;TZID=Europe/Paris:20260206T200000
DTSTAMP:20260423T100946
CREATED:20251229T094925Z
LAST-MODIFIED:20251229T094925Z
UID:27415-1770402600-1770408000@www.cheogokwan.nl
SUMMARY:Kadertraining
DESCRIPTION:Rode band en hoger
URL:https://www.cheogokwan.nl/evenement/kadertraining-3/
CATEGORIES:Trainingen
END:VEVENT
BEGIN:VEVENT
DTSTART;TZID=Europe/Paris:20260125T100000
DTEND;TZID=Europe/Paris:20260125T130000
DTSTAMP:20260423T100946
CREATED:20251029T090720Z
LAST-MODIFIED:20251029T090720Z
UID:27252-1769335200-1769346000@www.cheogokwan.nl
SUMMARY:Landelijke training Dutch ITF
DESCRIPTION:
URL:https://www.cheogokwan.nl/evenement/landelijke-training-dutch-itf-2/
CATEGORIES:Trainingen
END:VEVENT
BEGIN:VEVENT
DTSTART;TZID=Europe/Paris:20260123T183000
DTEND;TZID=Europe/Paris:20260123T200000
DTSTAMP:20260423T100946
CREATED:20251229T094752Z
LAST-MODIFIED:20251229T094752Z
UID:27413-1769193000-1769198400@www.cheogokwan.nl
SUMMARY:Kadertraining
DESCRIPTION:Rode band en hoger
URL:https://www.cheogokwan.nl/evenement/kadertraining-2/
CATEGORIES:Trainingen
END:VEVENT
BEGIN:VEVENT
DTSTART;TZID=Europe/Paris:20260104T100000
DTEND;TZID=Europe/Paris:20260104T113000
DTSTAMP:20260423T100946
CREATED:20251229T094214Z
LAST-MODIFIED:20251229T094214Z
UID:27406-1767520800-1767526200@www.cheogokwan.nl
SUMMARY:Wedstrijdtraining
DESCRIPTION:Op uitnodiging
URL:https://www.cheogokwan.nl/evenement/wedstrijdtraining-7/
CATEGORIES:Trainingen
END:VEVENT
BEGIN:VEVENT
DTSTART;TZID=Europe/Paris:20260102T183000
DTEND;TZID=Europe/Paris:20260102T200000
DTSTAMP:20260423T100946
CREATED:20251229T094346Z
LAST-MODIFIED:20251229T094346Z
UID:27408-1767378600-1767384000@www.cheogokwan.nl
SUMMARY:Kadertraining
DESCRIPTION:Rode band en hoger
URL:https://www.cheogokwan.nl/evenement/kadertraining/
CATEGORIES:Trainingen
END:VEVENT
BEGIN:VEVENT
DTSTART;TZID=Europe/Paris:20251130T000000
DTEND;TZID=Europe/Paris:20251130T235959
DTSTAMP:20260423T100946
CREATED:20251029T090430Z
LAST-MODIFIED:20251029T090430Z
UID:27246-1764460800-1764547199@www.cheogokwan.nl
SUMMARY:Pre-Selectietraining Dutch ITF
DESCRIPTION:Alleen op uitnodiging.
URL:https://www.cheogokwan.nl/evenement/pre-selectietraining-dutch-itf/
CATEGORIES:Trainingen
END:VEVENT
BEGIN:VEVENT
DTSTART;TZID=Europe/Paris:20241215T100000
DTEND;TZID=Europe/Paris:20241215T113000
DTSTAMP:20260423T100946
CREATED:20240913T121031Z
LAST-MODIFIED:20241128T135846Z
UID:26431-1734256800-1734262200@www.cheogokwan.nl
SUMMARY:Cheo Go Kwan Wedstrijdtraining
DESCRIPTION:Alleen voor de Cheo Go Kwan Wedstrijdgroep of op uitnodiging.
URL:https://www.cheogokwan.nl/evenement/cheo-go-kwan-wedstrijdtraining-10/
CATEGORIES:Trainingen
END:VEVENT
BEGIN:VEVENT
DTSTART;TZID=Europe/Paris:20171103T203000
DTEND;TZID=Europe/Paris:20171103T213000
DTSTAMP:20260423T100946
CREATED:20171006T071332Z
LAST-MODIFIED:20171006T071942Z
UID:1365-1509741000-1509744600@www.cheogokwan.nl
SUMMARY:Eerste les op vrijdag
DESCRIPTION:
URL:https://www.cheogokwan.nl/evenement/eerste-les-op-vrijdag/
CATEGORIES:Trainingen
END:VEVENT
BEGIN:VEVENT
DTSTART;VALUE=DATE:20170405
DTEND;VALUE=DATE:20170407
DTSTAMP:20260423T100946
CREATED:20170315T134221Z
LAST-MODIFIED:20170315T134221Z
UID:540-1491354000-1491440399@www.cheogokwan.nl
SUMMARY:De allereerste les!
DESCRIPTION:
URL:https://www.cheogokwan.nl/evenement/de-allereerste-les/
CATEGORIES:Trainingen
END:VEVENT
END:VCALENDAR