BEGIN:VCALENDAR
VERSION:2.0
PRODID:-//Cheo Go Kwan - ECPv6.15.20//NONSGML v1.0//EN
CALSCALE:GREGORIAN
METHOD:PUBLISH
X-WR-CALNAME:Cheo Go Kwan
X-ORIGINAL-URL:https://www.cheogokwan.nl
X-WR-CALDESC:Evenementen voor Cheo Go Kwan
REFRESH-INTERVAL;VALUE=DURATION:PT1H
X-Robots-Tag:noindex
X-PUBLISHED-TTL:PT1H
BEGIN:VTIMEZONE
TZID:Europe/Paris
BEGIN:DAYLIGHT
TZOFFSETFROM:+0100
TZOFFSETTO:+0200
TZNAME:CEST
DTSTART:20250330T010000
END:DAYLIGHT
BEGIN:STANDARD
TZOFFSETFROM:+0200
TZOFFSETTO:+0100
TZNAME:CET
DTSTART:20251026T010000
END:STANDARD
BEGIN:DAYLIGHT
TZOFFSETFROM:+0100
TZOFFSETTO:+0200
TZNAME:CEST
DTSTART:20260329T010000
END:DAYLIGHT
BEGIN:STANDARD
TZOFFSETFROM:+0200
TZOFFSETTO:+0100
TZNAME:CET
DTSTART:20261025T010000
END:STANDARD
BEGIN:DAYLIGHT
TZOFFSETFROM:+0100
TZOFFSETTO:+0200
TZNAME:CEST
DTSTART:20270328T010000
END:DAYLIGHT
BEGIN:STANDARD
TZOFFSETFROM:+0200
TZOFFSETTO:+0100
TZNAME:CET
DTSTART:20271031T010000
END:STANDARD
END:VTIMEZONE
BEGIN:VEVENT
DTSTART;TZID=Europe/Paris:20260614T100000
DTEND;TZID=Europe/Paris:20260614T113000
DTSTAMP:20260423T122540
CREATED:20251229T095920Z
LAST-MODIFIED:20251229T095920Z
UID:27435-1781431200-1781436600@www.cheogokwan.nl
SUMMARY:Wedstrijdtraining
DESCRIPTION:Op uitnodiging
URL:https://www.cheogokwan.nl/evenement/wedstrijdtraining-12/
CATEGORIES:Trainingen
END:VEVENT
END:VCALENDAR